BEGIN:VCALENDAR
VERSION:2.0
PRODID:-//ical.marudot.com//iCal Event Maker
CALSCALE:GREGORIAN
BEGIN:VTIMEZONE
TZID:Asia/Shanghai
LAST-MODIFIED:20250410T142247Z
TZURL:https://www.tzurl.org/zoneinfo-outlook/Asia/Shanghai
X-LIC-LOCATION:Asia/Shanghai
BEGIN:STANDARD
TZNAME:CST
TZOFFSETFROM:+0800
TZOFFSETTO:+0800
DTSTART:19700101T000000
END:STANDARD
END:VTIMEZONE
BEGIN:VEVENT
DTSTAMP:20260414T071740Z
UID:1770910039572-86194@ical.marudot.com
DTSTART;TZID=Asia/Shanghai:20260602T133000
DTEND;TZID=Asia/Shanghai:20260602T172000
SUMMARY: Clean Energy Technology Briefing 2026
DESCRIPTION:Event:  Clean Energy Technology Briefing 2026\nDate: June 2\, 2026\nLocation: Crowne Plaza Shanghai Hongqiao
LOCATION:Crowne Plaza Shanghai Hongqiao
END:VEVENT
END:VCALENDAR