BEGIN:VCALENDAR
VERSION:2.0
PRODID:-//ical.marudot.com//iCal Event Maker
CALSCALE:GREGORIAN
BEGIN:VTIMEZONE
TZID:Asia/Tokyo
LAST-MODIFIED:20250410T142247Z
TZURL:https://www.tzurl.org/zoneinfo-outlook/Asia/Tokyo
X-LIC-LOCATION:Asia/Tokyo
BEGIN:STANDARD
TZNAME:JST
TZOFFSETFROM:+0900
TZOFFSETTO:+0900
DTSTART:19700101T000000
END:STANDARD
END:VTIMEZONE
BEGIN:VEVENT
DTSTAMP:20260417T053307Z
UID:1770910039572-86194@ical.marudot.com
DTSTART;TZID=Asia/Tokyo:20260604T083000
DTEND;TZID=Asia/Tokyo:20260604T170000
SUMMARY:Tokyo Energy Briefing 2026
DESCRIPTION:Event:  Tokyo Energy Briefing 2026\nDate: June 4\, 2026\nLocation: Conrad Tokyo
LOCATION:Conrad Tokyo
END:VEVENT
END:VCALENDAR